Package: RnBeads Version: 2.24.0 Command: /home/biocbuild/R/R/bin/R CMD INSTALL RnBeads StartedAt: 2025-03-31 21:07:01 -0000 (Mon, 31 Mar 2025) EndedAt: 2025-03-31 21:08:51 -0000 (Mon, 31 Mar 2025) EllapsedTime: 109.6 seconds RetCode: 0 Status: OK