Package: RnBeads Version: 2.24.0 Command: /home/biocbuild/R/R/bin/R CMD build --keep-empty-dirs --no-resave-data RnBeads StartedAt: 2025-04-01 02:10:24 -0000 (Tue, 01 Apr 2025) EndedAt: 2025-04-01 02:13:06 -0000 (Tue, 01 Apr 2025) EllapsedTime: 162.2 seconds RetCode: 0 Status: OK PackageFile: RnBeads_2.24.0.tar.gz PackageFileSize: 7.546 MiB