Package: RnBeads Version: 2.24.0 Command: rm -rf RnBeads.buildbin-libdir && mkdir RnBeads.buildbin-libdir && /Users/biocbuild/BBS/utils/build-universal.sh RnBeads_2.24.0.tar.gz /Library/Frameworks/R.framework/Resources/bin/R RnBeads.buildbin-libdir StartedAt: 2025-04-02 16:02:35 -0400 (Wed, 02 Apr 2025) EndedAt: 2025-04-02 16:04:18 -0400 (Wed, 02 Apr 2025) EllapsedTime: 102.8 seconds RetCode: 0 Status: OK PackageFile: RnBeads_2.24.0.tgz PackageFileSize: 7.918 MiB