Package: Risa Version: 1.48.1 Command: F:\biocbuild\bbs-3.20-bioc\R\bin\R.exe CMD check --no-multiarch --install=check:Risa.install-out.txt --library=F:\biocbuild\bbs-3.20-bioc\R\library --no-vignettes --timings Risa_1.48.1.tar.gz StartedAt: 2025-04-01 05:16:04 -0400 (Tue, 01 Apr 2025) EndedAt: 2025-04-01 05:21:50 -0400 (Tue, 01 Apr 2025) EllapsedTime: 345.9 seconds RetCode: 1 Status: ERROR CheckDir: Risa.Rcheck Warnings: NA