Package: RiboProfiling Version: 1.36.0 Command: /home/biocbuild/R/R/bin/R CMD build --keep-empty-dirs --no-resave-data RiboProfiling StartedAt: 2025-04-01 02:04:04 -0000 (Tue, 01 Apr 2025) EndedAt: 2025-04-01 02:07:49 -0000 (Tue, 01 Apr 2025) EllapsedTime: 225.2 seconds RetCode: 0 Status: OK PackageFile: RiboProfiling_1.36.0.tar.gz PackageFileSize: 4.489 MiB