Package: RiboProfiling Version: 1.36.0 Command: /Library/Frameworks/R.framework/Resources/bin/R CMD INSTALL RiboProfiling StartedAt: 2025-03-31 16:00:26 -0400 (Mon, 31 Mar 2025) EndedAt: 2025-03-31 16:02:10 -0400 (Mon, 31 Mar 2025) EllapsedTime: 104.7 seconds RetCode: 0 Status: OK