Package: RiboProfiling Version: 1.36.0 Command: /Library/Frameworks/R.framework/Resources/bin/R CMD build --keep-empty-dirs --no-resave-data RiboProfiling StartedAt: 2025-03-31 21:26:05 -0400 (Mon, 31 Mar 2025) EndedAt: 2025-03-31 21:32:34 -0400 (Mon, 31 Mar 2025) EllapsedTime: 389.0 seconds RetCode: 0 Status: OK PackageFile: RiboProfiling_1.36.0.tar.gz PackageFileSize: 4.659 MiB