Package: RiboDiPA Version: 1.14.0 Command: /Library/Frameworks/R.framework/Resources/bin/R CMD build --keep-empty-dirs --no-resave-data RiboDiPA StartedAt: 2025-03-31 21:25:54 -0400 (Mon, 31 Mar 2025) EndedAt: 2025-03-31 21:36:34 -0400 (Mon, 31 Mar 2025) EllapsedTime: 640.0 seconds RetCode: 0 Status: OK PackageFile: RiboDiPA_1.14.0.tar.gz PackageFileSize: 1.816 MiB