Package: RiboDiPA Version: 1.14.0 Command: /Library/Frameworks/R.framework/Resources/bin/R CMD check --install=check:RiboDiPA.install-out.txt --library=/Library/Frameworks/R.framework/Resources/library --no-vignettes --timings RiboDiPA_1.14.0.tar.gz StartedAt: 2025-04-02 06:11:59 -0400 (Wed, 02 Apr 2025) EndedAt: 2025-04-02 06:24:09 -0400 (Wed, 02 Apr 2025) EllapsedTime: 730.3 seconds RetCode: 0 Status: OK CheckDir: RiboDiPA.Rcheck Warnings: 0