Package: RiboCrypt Version: 1.12.0 Command: F:\biocbuild\bbs-3.20-bioc\R\bin\R.exe CMD INSTALL RiboCrypt StartedAt: 2025-03-31 17:06:13 -0400 (Mon, 31 Mar 2025) EndedAt: 2025-03-31 17:07:43 -0400 (Mon, 31 Mar 2025) EllapsedTime: 89.6 seconds RetCode: 0 Status: OK