Package: RiboCrypt Version: 1.12.0 Command: F:\biocbuild\bbs-3.20-bioc\R\bin\R.exe CMD check --no-multiarch --install=check:RiboCrypt.install-out.txt --library=F:\biocbuild\bbs-3.20-bioc\R\library --no-vignettes --timings RiboCrypt_1.12.0.tar.gz StartedAt: 2025-04-01 05:14:29 -0400 (Tue, 01 Apr 2025) EndedAt: 2025-04-01 05:20:29 -0400 (Tue, 01 Apr 2025) EllapsedTime: 360.0 seconds RetCode: 1 Status: ERROR CheckDir: RiboCrypt.Rcheck Warnings: NA