Package: RiboCrypt Version: 1.12.0 Command: chmod a+r RiboCrypt -R && F:\biocbuild\bbs-3.20-bioc\R\bin\R.exe CMD build --keep-empty-dirs --no-resave-data RiboCrypt StartedAt: 2025-03-31 21:27:53 -0400 (Mon, 31 Mar 2025) EndedAt: 2025-03-31 21:30:39 -0400 (Mon, 31 Mar 2025) EllapsedTime: 165.8 seconds RetCode: 0 Status: OK PackageFile: RiboCrypt_1.12.0.tar.gz PackageFileSize: 5.657 MiB