Package: RiboCrypt Version: 1.12.0 Command: /Library/Frameworks/R.framework/Resources/bin/R CMD INSTALL RiboCrypt StartedAt: 2025-03-31 16:40:54 -0400 (Mon, 31 Mar 2025) EndedAt: 2025-03-31 16:42:25 -0400 (Mon, 31 Mar 2025) EllapsedTime: 90.4 seconds RetCode: 0 Status: OK