Package: Rhdf5lib Version: 1.28.0 Command: /home/biocbuild/R/R/bin/R CMD INSTALL Rhdf5lib StartedAt: 2025-03-31 20:11:34 -0000 (Mon, 31 Mar 2025) EndedAt: 2025-03-31 20:16:50 -0000 (Mon, 31 Mar 2025) EllapsedTime: 316.5 seconds RetCode: 0 Status: OK