Package: Rhdf5lib Version: 1.28.0 Command: /Library/Frameworks/R.framework/Resources/bin/R CMD check --install=check:Rhdf5lib.install-out.txt --library=/Library/Frameworks/R.framework/Resources/library --no-vignettes --timings Rhdf5lib_1.28.0.tar.gz StartedAt: 2025-04-01 08:02:41 -0400 (Tue, 01 Apr 2025) EndedAt: 2025-04-01 08:03:24 -0400 (Tue, 01 Apr 2025) EllapsedTime: 43.1 seconds RetCode: 0 Status: WARNINGS CheckDir: Rhdf5lib.Rcheck Warnings: 1