Package: RgnTX Version: 1.8.0 Command: F:\biocbuild\bbs-3.20-bioc\R\bin\R.exe CMD check --no-multiarch --install=check:RgnTX.install-out.txt --library=F:\biocbuild\bbs-3.20-bioc\R\library --no-vignettes --timings RgnTX_1.8.0.tar.gz StartedAt: 2025-04-01 05:11:28 -0400 (Tue, 01 Apr 2025) EndedAt: 2025-04-01 05:20:48 -0400 (Tue, 01 Apr 2025) EllapsedTime: 559.8 seconds RetCode: 0 Status: OK CheckDir: RgnTX.Rcheck Warnings: 0