Package: RgnTX Version: 1.8.0 Command: /Library/Frameworks/R.framework/Resources/bin/R CMD build --keep-empty-dirs --no-resave-data RgnTX StartedAt: 2025-03-31 21:24:32 -0400 (Mon, 31 Mar 2025) EndedAt: 2025-03-31 21:29:21 -0400 (Mon, 31 Mar 2025) EllapsedTime: 289.2 seconds RetCode: 0 Status: OK PackageFile: RgnTX_1.8.0.tar.gz PackageFileSize: 3.932 MiB