Package: RgnTX Version: 1.8.0 Command: /Library/Frameworks/R.framework/Resources/bin/R CMD build --keep-empty-dirs --no-resave-data RgnTX StartedAt: 2025-04-01 06:08:19 -0400 (Tue, 01 Apr 2025) EndedAt: 2025-04-01 06:11:02 -0400 (Tue, 01 Apr 2025) EllapsedTime: 163.2 seconds RetCode: 0 Status: OK PackageFile: RgnTX_1.8.0.tar.gz PackageFileSize: 3.932 MiB