Package: Rfastp Version: 1.16.0 Command: F:\biocbuild\bbs-3.20-bioc\R\bin\R.exe CMD check --no-multiarch --install=check:Rfastp.install-out.txt --library=F:\biocbuild\bbs-3.20-bioc\R\library --no-vignettes --timings Rfastp_1.16.0.tar.gz StartedAt: 2025-04-01 05:10:45 -0400 (Tue, 01 Apr 2025) EndedAt: 2025-04-01 05:12:04 -0400 (Tue, 01 Apr 2025) EllapsedTime: 79.0 seconds RetCode: 0 Status: OK CheckDir: Rfastp.Rcheck Warnings: 0