Package: ResidualMatrix Version: 1.16.0 Command: /Library/Frameworks/R.framework/Resources/bin/R CMD check --install=check:ResidualMatrix.install-out.txt --library=/Library/Frameworks/R.framework/Resources/library --no-vignettes --timings ResidualMatrix_1.16.0.tar.gz StartedAt: 2025-04-01 07:54:44 -0400 (Tue, 01 Apr 2025) EndedAt: 2025-04-01 08:02:10 -0400 (Tue, 01 Apr 2025) EllapsedTime: 445.1 seconds RetCode: 0 Status: OK CheckDir: ResidualMatrix.Rcheck Warnings: 0