Package: ResidualMatrix Version: 1.16.0 Command: rm -rf ResidualMatrix.buildbin-libdir && mkdir ResidualMatrix.buildbin-libdir && /Users/biocbuild/BBS/utils/build-universal.sh ResidualMatrix_1.16.0.tar.gz /Library/Frameworks/R.framework/Resources/bin/R ResidualMatrix.buildbin-libdir StartedAt: 2025-04-02 15:53:13 -0400 (Wed, 02 Apr 2025) EndedAt: 2025-04-02 15:53:36 -0400 (Wed, 02 Apr 2025) EllapsedTime: 22.7 seconds RetCode: 0 Status: OK PackageFile: ResidualMatrix_1.16.0.tgz PackageFileSize: 626.2 KiB