Package: Repitools Version: 1.52.0 Command: /home/biocbuild/R/R/bin/R CMD INSTALL Repitools StartedAt: 2025-03-31 20:35:16 -0000 (Mon, 31 Mar 2025) EndedAt: 2025-03-31 20:36:05 -0000 (Mon, 31 Mar 2025) EllapsedTime: 49.1 seconds RetCode: 0 Status: OK