Package: Repitools Version: 1.52.0 Command: /Library/Frameworks/R.framework/Resources/bin/R CMD INSTALL Repitools StartedAt: 2025-03-31 15:39:10 -0400 (Mon, 31 Mar 2025) EndedAt: 2025-03-31 15:40:37 -0400 (Mon, 31 Mar 2025) EllapsedTime: 86.8 seconds RetCode: 0 Status: OK