Package: RepViz Version: 1.22.0 Command: chmod a+r RepViz -R && F:\biocbuild\bbs-3.20-bioc\R\bin\R.exe CMD build --keep-empty-dirs --no-resave-data RepViz StartedAt: 2025-03-31 21:24:47 -0400 (Mon, 31 Mar 2025) EndedAt: 2025-03-31 21:25:28 -0400 (Mon, 31 Mar 2025) EllapsedTime: 41.2 seconds RetCode: 0 Status: OK PackageFile: RepViz_1.22.0.tar.gz PackageFileSize: 188.5 KiB