Package: RepViz Version: 1.22.0 Command: rm -rf RepViz.buildbin-libdir && mkdir RepViz.buildbin-libdir && F:\biocbuild\bbs-3.20-bioc\R\bin\R.exe CMD INSTALL --build --library=RepViz.buildbin-libdir RepViz_1.22.0.tar.gz StartedAt: 2025-04-01 09:01:18 -0400 (Tue, 01 Apr 2025) EndedAt: 2025-04-01 09:01:40 -0400 (Tue, 01 Apr 2025) EllapsedTime: 22.4 seconds RetCode: 0 Status: OK PackageFile: RepViz_1.22.0.zip PackageFileSize: 233.1 KiB