Package: RepViz Version: 1.22.0 Command: /Library/Frameworks/R.framework/Resources/bin/R CMD INSTALL RepViz StartedAt: 2025-03-31 15:47:11 -0400 (Mon, 31 Mar 2025) EndedAt: 2025-03-31 15:47:47 -0400 (Mon, 31 Mar 2025) EllapsedTime: 36.2 seconds RetCode: 0 Status: OK