Package: RepViz Version: 1.22.0 Command: /Library/Frameworks/R.framework/Resources/bin/R CMD check --install=check:RepViz.install-out.txt --library=/Library/Frameworks/R.framework/Resources/library --no-vignettes --timings RepViz_1.22.0.tar.gz StartedAt: 2025-04-01 07:54:08 -0400 (Tue, 01 Apr 2025) EndedAt: 2025-04-01 07:58:16 -0400 (Tue, 01 Apr 2025) EllapsedTime: 247.3 seconds RetCode: 0 Status: WARNINGS CheckDir: RepViz.Rcheck Warnings: 3