Package: RegionalST Version: 1.4.2 Command: /home/biocbuild/R/R/bin/R CMD INSTALL RegionalST StartedAt: 2025-03-31 21:12:26 -0000 (Mon, 31 Mar 2025) EndedAt: 2025-03-31 21:12:57 -0000 (Mon, 31 Mar 2025) EllapsedTime: 31.3 seconds RetCode: 0 Status: OK