Package: RegionalST Version: 1.4.2 Command: /Library/Frameworks/R.framework/Resources/bin/R CMD build --keep-empty-dirs --no-resave-data RegionalST StartedAt: 2025-03-31 21:21:05 -0400 (Mon, 31 Mar 2025) EndedAt: 2025-03-31 21:24:41 -0400 (Mon, 31 Mar 2025) EllapsedTime: 215.9 seconds RetCode: 0 Status: OK PackageFile: RegionalST_1.4.2.tar.gz PackageFileSize: 4.355 MiB