Package: RegionalST Version: 1.4.2 Command: /Library/Frameworks/R.framework/Resources/bin/R CMD INSTALL RegionalST StartedAt: 2025-03-31 18:17:51 -0400 (Mon, 31 Mar 2025) EndedAt: 2025-03-31 18:18:21 -0400 (Mon, 31 Mar 2025) EllapsedTime: 30.1 seconds RetCode: 0 Status: OK