Package: RegEnrich Version: 1.16.0 Command: F:\biocbuild\bbs-3.20-bioc\R\bin\R.exe CMD INSTALL RegEnrich StartedAt: 2025-03-31 16:34:20 -0400 (Mon, 31 Mar 2025) EndedAt: 2025-03-31 16:35:13 -0400 (Mon, 31 Mar 2025) EllapsedTime: 52.6 seconds RetCode: 0 Status: OK