Package: RegEnrich Version: 1.16.0 Command: /Library/Frameworks/R.framework/Resources/bin/R CMD check --install=check:RegEnrich.install-out.txt --library=/Library/Frameworks/R.framework/Resources/library --no-vignettes --timings RegEnrich_1.16.0.tar.gz StartedAt: 2025-03-28 08:42:40 -0400 (Fri, 28 Mar 2025) EndedAt: 2025-03-28 08:51:34 -0400 (Fri, 28 Mar 2025) EllapsedTime: 534.5 seconds RetCode: 0 Status: OK CheckDir: RegEnrich.Rcheck Warnings: 0