Package: RedisParam Version: 1.8.0 Command: chmod a+r RedisParam -R && F:\biocbuild\bbs-3.20-bioc\R\bin\R.exe CMD build --keep-empty-dirs --no-resave-data RedisParam StartedAt: 2025-03-31 21:23:08 -0400 (Mon, 31 Mar 2025) EndedAt: 2025-03-31 21:24:02 -0400 (Mon, 31 Mar 2025) EllapsedTime: 53.6 seconds RetCode: 0 Status: OK PackageFile: RedisParam_1.8.0.tar.gz PackageFileSize: 950.6 KiB