Package: RedisParam Version: 1.8.0 Command: rm -rf RedisParam.buildbin-libdir && mkdir RedisParam.buildbin-libdir && F:\biocbuild\bbs-3.20-bioc\R\bin\R.exe CMD INSTALL --build --library=RedisParam.buildbin-libdir RedisParam_1.8.0.tar.gz StartedAt: 2025-04-01 09:00:36 -0400 (Tue, 01 Apr 2025) EndedAt: 2025-04-01 09:01:30 -0400 (Tue, 01 Apr 2025) EllapsedTime: 54.0 seconds RetCode: 0 Status: OK PackageFile: RedisParam_1.8.0.zip PackageFileSize: 1024 KiB