Package: RedisParam Version: 1.8.0 Command: /Library/Frameworks/R.framework/Resources/bin/R CMD build --keep-empty-dirs --no-resave-data RedisParam StartedAt: 2025-04-01 06:02:07 -0400 (Tue, 01 Apr 2025) EndedAt: 2025-04-01 06:02:16 -0400 (Tue, 01 Apr 2025) EllapsedTime: 9.2 seconds RetCode: 0 Status: OK PackageFile: RedisParam_1.8.0.tar.gz PackageFileSize: 950.5 KiB