Package: RedeR Version: 3.2.0 Command: /home/biocbuild/R/R/bin/R CMD INSTALL RedeR StartedAt: 2025-03-31 20:18:22 -0000 (Mon, 31 Mar 2025) EndedAt: 2025-03-31 20:18:31 -0000 (Mon, 31 Mar 2025) EllapsedTime: 9.4 seconds RetCode: 0 Status: OK