Package: RedeR Version: 3.2.0 Command: /home/biocbuild/R/R/bin/R CMD check --install=check:RedeR.install-out.txt --library=/home/biocbuild/R/R/site-library --no-vignettes --timings RedeR_3.2.0.tar.gz StartedAt: 2025-04-01 09:52:00 -0000 (Tue, 01 Apr 2025) EndedAt: 2025-04-01 09:52:37 -0000 (Tue, 01 Apr 2025) EllapsedTime: 37.0 seconds RetCode: 0 Status: OK CheckDir: RedeR.Rcheck Warnings: 0