Package: RedeR Version: 3.2.0 Command: F:\biocbuild\bbs-3.20-bioc\R\bin\R.exe CMD INSTALL RedeR StartedAt: 2025-03-31 15:32:45 -0400 (Mon, 31 Mar 2025) EndedAt: 2025-03-31 15:33:37 -0400 (Mon, 31 Mar 2025) EllapsedTime: 51.7 seconds RetCode: 0 Status: OK