Package: RedeR Version: 3.2.0 Command: chmod a+r RedeR -R && F:\biocbuild\bbs-3.20-bioc\R\bin\R.exe CMD build --keep-empty-dirs --no-resave-data RedeR StartedAt: 2025-03-31 21:23:07 -0400 (Mon, 31 Mar 2025) EndedAt: 2025-03-31 21:24:45 -0400 (Mon, 31 Mar 2025) EllapsedTime: 98.1 seconds RetCode: 0 Status: OK PackageFile: RedeR_3.2.0.tar.gz PackageFileSize: 4.347 MiB