Package: RedeR Version: 3.2.0 Command: /Library/Frameworks/R.framework/Resources/bin/R CMD build --keep-empty-dirs --no-resave-data RedeR StartedAt: 2025-04-01 06:01:50 -0400 (Tue, 01 Apr 2025) EndedAt: 2025-04-01 06:02:07 -0400 (Tue, 01 Apr 2025) EllapsedTime: 16.7 seconds RetCode: 0 Status: OK PackageFile: RedeR_3.2.0.tar.gz PackageFileSize: 4.346 MiB