Package: ReadqPCR Version: 1.52.0 Command: /Library/Frameworks/R.framework/Resources/bin/R CMD check --install=check:ReadqPCR.install-out.txt --library=/Library/Frameworks/R.framework/Resources/library --no-vignettes --timings ReadqPCR_1.52.0.tar.gz StartedAt: 2025-04-02 05:37:41 -0400 (Wed, 02 Apr 2025) EndedAt: 2025-04-02 05:38:13 -0400 (Wed, 02 Apr 2025) EllapsedTime: 32.6 seconds RetCode: 0 Status: OK CheckDir: ReadqPCR.Rcheck Warnings: 0