Package: ReadqPCR Version: 1.52.0 Command: /Library/Frameworks/R.framework/Resources/bin/R CMD build --keep-empty-dirs --no-resave-data ReadqPCR StartedAt: 2025-04-01 05:58:50 -0400 (Tue, 01 Apr 2025) EndedAt: 2025-04-01 05:59:05 -0400 (Tue, 01 Apr 2025) EllapsedTime: 14.8 seconds RetCode: 0 Status: OK PackageFile: ReadqPCR_1.52.0.tar.gz PackageFileSize: 490.9 KiB