Package: ReactomeContentService4R Version: 1.14.0 Command: rm -rf ReactomeContentService4R.buildbin-libdir && mkdir ReactomeContentService4R.buildbin-libdir && F:\biocbuild\bbs-3.20-bioc\R\bin\R.exe CMD INSTALL --build --library=ReactomeContentService4R.buildbin-libdir ReactomeContentService4R_1.14.0.tar.gz StartedAt: 2025-04-01 08:59:41 -0400 (Tue, 01 Apr 2025) EndedAt: 2025-04-01 09:03:54 -0400 (Tue, 01 Apr 2025) EllapsedTime: 252.9 seconds RetCode: 0 Status: OK PackageFile: ReactomeContentService4R_1.14.0.zip PackageFileSize: 1.161 MiB