Package: Rdisop Version: 1.66.0 Command: /home/biocbuild/R/R/bin/R CMD INSTALL Rdisop StartedAt: 2025-03-31 20:12:36 -0000 (Mon, 31 Mar 2025) EndedAt: 2025-03-31 20:13:41 -0000 (Mon, 31 Mar 2025) EllapsedTime: 64.1 seconds RetCode: 0 Status: OK