Package: Rdisop Version: 1.66.0 Command: /home/biocbuild/R/R/bin/R CMD build --keep-empty-dirs --no-resave-data Rdisop StartedAt: 2025-04-01 01:57:04 -0000 (Tue, 01 Apr 2025) EndedAt: 2025-04-01 01:57:57 -0000 (Tue, 01 Apr 2025) EllapsedTime: 53.0 seconds RetCode: 0 Status: OK PackageFile: Rdisop_1.66.0.tar.gz PackageFileSize: 690 KiB