Package: Rdisop Version: 1.66.0 Command: F:\biocbuild\bbs-3.20-bioc\R\bin\R.exe CMD check --no-multiarch --install=check:Rdisop.install-out.txt --library=F:\biocbuild\bbs-3.20-bioc\R\library --no-vignettes --timings Rdisop_1.66.0.tar.gz StartedAt: 2025-04-01 05:02:16 -0400 (Tue, 01 Apr 2025) EndedAt: 2025-04-01 05:03:17 -0400 (Tue, 01 Apr 2025) EllapsedTime: 61.6 seconds RetCode: 0 Status: OK CheckDir: Rdisop.Rcheck Warnings: 0