Package: Rdisop Version: 1.66.0 Command: /Library/Frameworks/R.framework/Resources/bin/R CMD INSTALL Rdisop StartedAt: 2025-03-31 15:05:27 -0400 (Mon, 31 Mar 2025) EndedAt: 2025-03-31 15:06:31 -0400 (Mon, 31 Mar 2025) EllapsedTime: 63.6 seconds RetCode: 0 Status: OK