Package: Rcpi Version: 1.42.0 Command: rm -rf Rcpi.buildbin-libdir && mkdir Rcpi.buildbin-libdir && /Users/biocbuild/BBS/utils/build-universal.sh Rcpi_1.42.0.tar.gz /Library/Frameworks/R.framework/Resources/bin/R Rcpi.buildbin-libdir StartedAt: 2025-04-02 15:50:05 -0400 (Wed, 02 Apr 2025) EndedAt: 2025-04-02 15:50:26 -0400 (Wed, 02 Apr 2025) EllapsedTime: 21.7 seconds RetCode: 0 Status: OK PackageFile: Rcpi_1.42.0.tgz PackageFileSize: 2.584 MiB