Package: RcisTarget Version: 1.26.0 Command: /home/biocbuild/R/R/bin/R CMD check --install=check:RcisTarget.install-out.txt --library=/home/biocbuild/R/R/site-library --no-vignettes --timings RcisTarget_1.26.0.tar.gz StartedAt: 2025-04-01 09:49:18 -0000 (Tue, 01 Apr 2025) EndedAt: 2025-04-01 09:56:08 -0000 (Tue, 01 Apr 2025) EllapsedTime: 410.6 seconds RetCode: 0 Status: OK CheckDir: RcisTarget.Rcheck Warnings: 0