Package: RcisTarget Version: 1.26.0 Command: /home/biocbuild/R/R/bin/R CMD build --keep-empty-dirs --no-resave-data RcisTarget StartedAt: 2025-04-01 01:54:36 -0000 (Tue, 01 Apr 2025) EndedAt: 2025-04-01 01:56:14 -0000 (Tue, 01 Apr 2025) EllapsedTime: 98.0 seconds RetCode: 0 Status: OK PackageFile: RcisTarget_1.26.0.tar.gz PackageFileSize: 12.9 MiB